BEGIN:VCALENDAR
PRODID:-//eluceo/ical//2.0/EN
VERSION:2.0
CALSCALE:GREGORIAN
BEGIN:VEVENT
UID:64fa6d07c46c0781aae544f45ec0a035
DTSTAMP:20260422T044421Z
SUMMARY:Jewish Federation of Central Mass Board Meeting
DESCRIPTION:Jewish Federation of Central Massachusetts\nCalendar\nhttps://j
 ewishcentralmass.org/calendar/cal351\n\nJewish Federation of Central Mass 
 Board Meeting
DTSTART;TZID=America/New_York:20151103T193000
DTEND;TZID=America/New_York:20151103T210000
END:VEVENT
END:VCALENDAR
