BEGIN:VCALENDAR
PRODID:-//eluceo/ical//2.0/EN
VERSION:2.0
CALSCALE:GREGORIAN
BEGIN:VEVENT
UID:8e2504f8be92c2ccc55f118be13ea160
DTSTAMP:20260423T055049Z
SUMMARY:Boroughs JCC PJ Library Havdallah
DESCRIPTION:Jewish Federation of Central Massachusetts\nCalendar\nhttps://j
 ewishcentralmass.org/calendar/cal35\n\nBoroughs JCC PJ Library Havdallah
DTSTART;TZID=America/New_York:20141101T170000
DTEND;TZID=America/New_York:20141101T190000
END:VEVENT
END:VCALENDAR
