BEGIN:VCALENDAR
PRODID:-//eluceo/ical//2.0/EN
VERSION:2.0
CALSCALE:GREGORIAN
BEGIN:VEVENT
UID:e1ccee4a1b0374a042020d1b3a3ef077
DTSTAMP:20260424T004214Z
SUMMARY:Congregation Beth Israel Board Meeting
DESCRIPTION:Jewish Federation of Central Massachusetts\nCalendar\nhttps://j
 ewishcentralmass.org/calendar/cal348\n\nCongregation Beth Israel Board Mee
 ting
DTSTART;TZID=America/New_York:20151029T193000
DTEND;TZID=America/New_York:20151029T210000
END:VEVENT
END:VCALENDAR
