BEGIN:VCALENDAR
PRODID:-//eluceo/ical//2.0/EN
VERSION:2.0
CALSCALE:GREGORIAN
BEGIN:VEVENT
UID:6c4e4a0bec95eb5e781ece2e03dc1817
DTSTAMP:20260421T202610Z
SUMMARY:Beth Tikvah Bingo Event
DESCRIPTION:Jewish Federation of Central Massachusetts\nCalendar\nhttps://j
 ewishcentralmass.org/calendar/cal346\n\nBeth Tikvah Bingo Event
DTSTART;TZID=America/New_York:20151024T190000
DTEND;TZID=America/New_York:20151024T220000
END:VEVENT
END:VCALENDAR
