BEGIN:VCALENDAR
PRODID:-//eluceo/ical//2.0/EN
VERSION:2.0
CALSCALE:GREGORIAN
BEGIN:VEVENT
UID:07bb774f136c89e6d108a6de1b2051a7
DTSTAMP:20260423T035750Z
SUMMARY:Temple Emanuel Sinai Board Meeting
DESCRIPTION:Jewish Federation of Central Massachusetts\nCalendar\nhttps://j
 ewishcentralmass.org/calendar/cal345\n\nTemple Emanuel Sinai Board Meeting
DTSTART;TZID=America/New_York:20151019T193000
DTEND;TZID=America/New_York:20151019T210000
END:VEVENT
END:VCALENDAR
