BEGIN:VCALENDAR
PRODID:-//eluceo/ical//2.0/EN
VERSION:2.0
CALSCALE:GREGORIAN
BEGIN:VEVENT
UID:862ad8c03a67e32ceb1700796d1b775a
DTSTAMP:20260424T112747Z
SUMMARY:SUPER SUNDAY
DESCRIPTION:Jewish Federation of Central Massachusetts\nCalendar\nhttps://j
 ewishcentralmass.org/calendar/cal344\n\nSUPER SUNDAY
DTSTART;TZID=America/New_York:20151018T090000
DTEND;TZID=America/New_York:20151018T140000
END:VEVENT
END:VCALENDAR
