BEGIN:VCALENDAR
PRODID:-//eluceo/ical//2.0/EN
VERSION:2.0
CALSCALE:GREGORIAN
BEGIN:VEVENT
UID:7ae710f434dff1f55cfc14e2592e5207
DTSTAMP:20260423T112611Z
SUMMARY:Jewish Community Center Board Meeting
DESCRIPTION:Jewish Federation of Central Massachusetts\nCalendar\nhttps://j
 ewishcentralmass.org/calendar/cal343\n\nJewish Community Center Board Meet
 ing
DTSTART;TZID=America/New_York:20151015T193000
DTEND;TZID=America/New_York:20151015T210000
END:VEVENT
END:VCALENDAR
