BEGIN:VCALENDAR
PRODID:-//eluceo/ical//2.0/EN
VERSION:2.0
CALSCALE:GREGORIAN
BEGIN:VEVENT
UID:61dd7c408597a1434290118aa1ca1561
DTSTAMP:20260423T194032Z
SUMMARY:Beth Tikvah Board Meeting
DESCRIPTION:Jewish Federation of Central Massachusetts\nCalendar\nhttps://j
 ewishcentralmass.org/calendar/cal342\n\nBeth Tikvah Board Meeting
DTSTART;TZID=America/New_York:20151014T190000
DTEND;TZID=America/New_York:20151014T210000
END:VEVENT
END:VCALENDAR
