BEGIN:VCALENDAR
PRODID:-//eluceo/ical//2.0/EN
VERSION:2.0
CALSCALE:GREGORIAN
BEGIN:VEVENT
UID:ba9424f29b3d6febb2af6c576ce8caac
DTSTAMP:20260421T071158Z
SUMMARY:Jewish Federation of Central Mass Board Meeting
DESCRIPTION:Jewish Federation of Central Massachusetts\nCalendar\nhttps://j
 ewishcentralmass.org/calendar/cal341\n\nJewish Federation of Central Mass 
 Board Meeting
DTSTART;TZID=America/New_York:20151013T193000
DTEND;TZID=America/New_York:20151013T210000
END:VEVENT
END:VCALENDAR
