BEGIN:VCALENDAR
PRODID:-//eluceo/ical//2.0/EN
VERSION:2.0
CALSCALE:GREGORIAN
BEGIN:VEVENT
UID:6f9ae5a1e96f80e3d5bec0c51c49c25d
DTSTAMP:20260423T183429Z
SUMMARY:Simchat Torah
DESCRIPTION:Jewish Federation of Central Massachusetts\nCalendar\nhttps://j
 ewishcentralmass.org/calendar/cal340\n\nJFCM
DTSTART;TZID=America/New_York:20151006T000100
DTEND;TZID=America/New_York:20151006T235900
END:VEVENT
END:VCALENDAR
