BEGIN:VCALENDAR
PRODID:-//eluceo/ical//2.0/EN
VERSION:2.0
CALSCALE:GREGORIAN
BEGIN:VEVENT
UID:5aaabace3387d1c5917cf3a2ca543ac6
DTSTAMP:20260423T163900Z
SUMMARY:Congregation Beth Israel Board Meeting
DESCRIPTION:Jewish Federation of Central Massachusetts\nCalendar\nhttps://j
 ewishcentralmass.org/calendar/cal34\n\nCongregation Beth Israel Board Meet
 ing
DTSTART;TZID=America/New_York:20141030T193000
DTEND;TZID=America/New_York:20141030T210000
END:VEVENT
END:VCALENDAR
