BEGIN:VCALENDAR
PRODID:-//eluceo/ical//2.0/EN
VERSION:2.0
CALSCALE:GREGORIAN
BEGIN:VEVENT
UID:7d9d0e3644bbeeec26c4ba084071d37b
DTSTAMP:20260423T035130Z
SUMMARY:Shemini Atzeret
DESCRIPTION:Jewish Federation of Central Massachusetts\nCalendar\nhttps://j
 ewishcentralmass.org/calendar/cal339\n\nJFCM
DTSTART;TZID=America/New_York:20151005T000100
DTEND;TZID=America/New_York:20151005T235900
END:VEVENT
END:VCALENDAR
