BEGIN:VCALENDAR
PRODID:-//eluceo/ical//2.0/EN
VERSION:2.0
CALSCALE:GREGORIAN
BEGIN:VEVENT
UID:32b8509a60e43e1522c5194ffd40a0f8
DTSTAMP:20260422T205207Z
SUMMARY:Congregation B'nai Shalom Board Meeting
DESCRIPTION:Jewish Federation of Central Massachusetts\nCalendar\nhttps://j
 ewishcentralmass.org/calendar/cal338\n\nCongregation B'nai Shalom Board Me
 eting
DTSTART;TZID=America/New_York:20150930T193000
DTEND;TZID=America/New_York:20150930T210000
END:VEVENT
END:VCALENDAR
