BEGIN:VCALENDAR
PRODID:-//eluceo/ical//2.0/EN
VERSION:2.0
CALSCALE:GREGORIAN
BEGIN:VEVENT
UID:a23fd8bdd2d9a4897ce5e55b069ae6ab
DTSTAMP:20260423T185559Z
SUMMARY:Worcester Community Hebrew High School 1st Day of School
DESCRIPTION:Jewish Federation of Central Massachusetts\nCalendar\nhttps://j
 ewishcentralmass.org/calendar/cal337\n\nWorcester Community Hebrew High Sc
 hool 1st Day of School
DTSTART;TZID=America/New_York:20150930T190000
DTEND;TZID=America/New_York:20150930T210000
END:VEVENT
END:VCALENDAR
