BEGIN:VCALENDAR
PRODID:-//eluceo/ical//2.0/EN
VERSION:2.0
CALSCALE:GREGORIAN
BEGIN:VEVENT
UID:3e5a7d1adba02c6381668882df236d7e
DTSTAMP:20260422T110110Z
SUMMARY:Congregation B'nai Shalom Hebrew School 1st Day
DESCRIPTION:Jewish Federation of Central Massachusetts\nCalendar\nhttps://j
 ewishcentralmass.org/calendar/cal335\n\nCongregation B'nai Shalom Hebrew S
 chool 1st Day
DTSTART;TZID=America/New_York:20150929T160000
DTEND;TZID=America/New_York:20150929T180000
END:VEVENT
END:VCALENDAR
