BEGIN:VCALENDAR
PRODID:-//eluceo/ical//2.0/EN
VERSION:2.0
CALSCALE:GREGORIAN
BEGIN:VEVENT
UID:741c71828c94fedcc0d17c486fa8d599
DTSTAMP:20260423T063605Z
SUMMARY:Jewish War Veterans Breakfast
DESCRIPTION:Jewish Federation of Central Massachusetts\nCalendar\nhttps://j
 ewishcentralmass.org/calendar/cal332\n\nJewish War Veterans Breakfast
DTSTART;TZID=America/New_York:20150927T090000
DTEND;TZID=America/New_York:20150927T110000
END:VEVENT
END:VCALENDAR
