BEGIN:VCALENDAR
PRODID:-//eluceo/ical//2.0/EN
VERSION:2.0
CALSCALE:GREGORIAN
BEGIN:VEVENT
UID:6282e341b823cffd516e1ca9dd1493c3
DTSTAMP:20260423T074108Z
SUMMARY:Beth Tikvah Hebrew School 1st Day
DESCRIPTION:Jewish Federation of Central Massachusetts\nCalendar\nhttps://j
 ewishcentralmass.org/calendar/cal331\n\nBeth Tikvah Hebrew School 1st Day
DTSTART;TZID=America/New_York:20150927T090000
DTEND;TZID=America/New_York:20150927T120000
END:VEVENT
END:VCALENDAR
