BEGIN:VCALENDAR
PRODID:-//eluceo/ical//2.0/EN
VERSION:2.0
CALSCALE:GREGORIAN
BEGIN:VEVENT
UID:154803a110f39c72d5a1231e9017191f
DTSTAMP:20260424T060702Z
SUMMARY:Yom Kippur
DESCRIPTION:Jewish Federation of Central Massachusetts\nCalendar\nhttps://j
 ewishcentralmass.org/calendar/cal330\n\nJFCM
DTSTART;TZID=America/New_York:20150923T000100
DTEND;TZID=America/New_York:20150923T235900
END:VEVENT
END:VCALENDAR
