BEGIN:VCALENDAR
PRODID:-//eluceo/ical//2.0/EN
VERSION:2.0
CALSCALE:GREGORIAN
BEGIN:VEVENT
UID:ce29bd90fb95e2926139f0a4ba08b89f
DTSTAMP:20260423T185619Z
SUMMARY:Congregation Beth Israel Sisterhood Event
DESCRIPTION:Jewish Federation of Central Massachusetts\nCalendar\nhttps://j
 ewishcentralmass.org/calendar/cal33\n\nCongregation Beth Israel Sisterhood
  Event
DTSTART;TZID=America/New_York:20141026T160000
DTEND;TZID=America/New_York:20141026T180000
END:VEVENT
END:VCALENDAR
