BEGIN:VCALENDAR
PRODID:-//eluceo/ical//2.0/EN
VERSION:2.0
CALSCALE:GREGORIAN
BEGIN:VEVENT
UID:d7781499038f89362650a0e449065cf7
DTSTAMP:20260423T142630Z
SUMMARY:Kol Nidre
DESCRIPTION:Jewish Federation of Central Massachusetts\nCalendar\nhttps://j
 ewishcentralmass.org/calendar/cal329\n\nJFCM
DTSTART;TZID=America/New_York:20150922T000100
DTEND;TZID=America/New_York:20150922T235900
END:VEVENT
END:VCALENDAR
