BEGIN:VCALENDAR
PRODID:-//eluceo/ical//2.0/EN
VERSION:2.0
CALSCALE:GREGORIAN
BEGIN:VEVENT
UID:247d5b0946fca59cfa7db766e0b620ba
DTSTAMP:20260423T112601Z
SUMMARY:Jewish Healthcare Center Board Meeting
DESCRIPTION:Jewish Federation of Central Massachusetts\nCalendar\nhttps://j
 ewishcentralmass.org/calendar/cal328\n\nJewish Healthcare Center Board Mee
 ting
DTSTART;TZID=America/New_York:20150921T193000
DTEND;TZID=America/New_York:20150921T210000
END:VEVENT
END:VCALENDAR
