BEGIN:VCALENDAR
PRODID:-//eluceo/ical//2.0/EN
VERSION:2.0
CALSCALE:GREGORIAN
BEGIN:VEVENT
UID:0b5cbc7ddf7146deefc8c842f3ffded8
DTSTAMP:20260422T003514Z
SUMMARY:JFCM PJ Library Sukkot in the Park
DESCRIPTION:Jewish Federation of Central Massachusetts\nCalendar\nhttps://j
 ewishcentralmass.org/calendar/cal327\n\nJFCM PJ Library Sukkot in the Park
DTSTART;TZID=America/New_York:20151004T120000
DTEND;TZID=America/New_York:20151004T140000
END:VEVENT
END:VCALENDAR
