BEGIN:VCALENDAR
PRODID:-//eluceo/ical//2.0/EN
VERSION:2.0
CALSCALE:GREGORIAN
BEGIN:VEVENT
UID:5c7517dde6815520337dd7cf87201e06
DTSTAMP:20260422T150506Z
SUMMARY:Jewish Healthcare Center Road Race
DESCRIPTION:Jewish Federation of Central Massachusetts\nCalendar\nhttps://j
 ewishcentralmass.org/calendar/cal326\n\nJewish Healthcare Center Road Race
DTSTART;TZID=America/New_York:20150920T100000
DTEND;TZID=America/New_York:20150920T120000
END:VEVENT
END:VCALENDAR
