BEGIN:VCALENDAR
PRODID:-//eluceo/ical//2.0/EN
VERSION:2.0
CALSCALE:GREGORIAN
BEGIN:VEVENT
UID:d45329306e6e99bb822e4c9e3bc52690
DTSTAMP:20260422T051215Z
SUMMARY:Pardes 1st Day of School
DESCRIPTION:Jewish Federation of Central Massachusetts\nCalendar\nhttps://j
 ewishcentralmass.org/calendar/cal324\n\nPardes 1st Day of School
DTSTART;TZID=America/New_York:20150920T090000
DTEND;TZID=America/New_York:20150920T120000
END:VEVENT
END:VCALENDAR
