BEGIN:VCALENDAR
PRODID:-//eluceo/ical//2.0/EN
VERSION:2.0
CALSCALE:GREGORIAN
BEGIN:VEVENT
UID:3ce816db4e027d9498b31080281a6296
DTSTAMP:20260423T103244Z
SUMMARY:Rosh Hashanah
DESCRIPTION:Jewish Federation of Central Massachusetts\nCalendar\nhttps://j
 ewishcentralmass.org/calendar/cal322\n\nJFCM
DTSTART;TZID=America/New_York:20150914T000100
DTEND;TZID=America/New_York:20150915T235900
END:VEVENT
END:VCALENDAR
