BEGIN:VCALENDAR
PRODID:-//eluceo/ical//2.0/EN
VERSION:2.0
CALSCALE:GREGORIAN
BEGIN:VEVENT
UID:cfcb4b6ce71d33bb26538de762d62be2
DTSTAMP:20260422T105809Z
SUMMARY:Erev Rosh Hashanah
DESCRIPTION:Jewish Federation of Central Massachusetts\nCalendar\nhttps://j
 ewishcentralmass.org/calendar/cal321\n\nJFCM
DTSTART;TZID=America/New_York:20150913T000100
DTEND;TZID=America/New_York:20150913T235900
END:VEVENT
END:VCALENDAR
