BEGIN:VCALENDAR
PRODID:-//eluceo/ical//2.0/EN
VERSION:2.0
CALSCALE:GREGORIAN
BEGIN:VEVENT
UID:f7fb47fd9cd5496df020b0e5fb6a038e
DTSTAMP:20260423T015030Z
SUMMARY:Temple Emanuel Sinai Board Meeting
DESCRIPTION:Jewish Federation of Central Massachusetts\nCalendar\nhttps://j
 ewishcentralmass.org/calendar/cal320\n\nTemple Emanuel Sinai Board Meeting
DTSTART;TZID=America/New_York:20150910T193000
DTEND;TZID=America/New_York:20150910T210000
END:VEVENT
END:VCALENDAR
