BEGIN:VCALENDAR
PRODID:-//eluceo/ical//2.0/EN
VERSION:2.0
CALSCALE:GREGORIAN
BEGIN:VEVENT
UID:0c3b110dff054bfbff9d97cc897f3611
DTSTAMP:20260421T120016Z
SUMMARY:Jewish Federation of Central Mass Board Meeting
DESCRIPTION:Jewish Federation of Central Massachusetts\nCalendar\nhttps://j
 ewishcentralmass.org/calendar/cal318\n\nJewish Federation of Central Mass 
 Board Meeting
DTSTART;TZID=America/New_York:20150908T193000
DTEND;TZID=America/New_York:20150908T210000
END:VEVENT
END:VCALENDAR
