BEGIN:VCALENDAR
PRODID:-//eluceo/ical//2.0/EN
VERSION:2.0
CALSCALE:GREGORIAN
BEGIN:VEVENT
UID:230f1058749f76d84eedf02e11a1d6f2
DTSTAMP:20260422T110317Z
SUMMARY:Labor Day
DESCRIPTION:Jewish Federation of Central Massachusetts\nCalendar\nhttps://j
 ewishcentralmass.org/calendar/cal317\n\nJFCM
DTSTART;TZID=America/New_York:20150907T000100
DTEND;TZID=America/New_York:20150907T235900
END:VEVENT
END:VCALENDAR
