BEGIN:VCALENDAR
PRODID:-//eluceo/ical//2.0/EN
VERSION:2.0
CALSCALE:GREGORIAN
BEGIN:VEVENT
UID:e06d856aa45fc4bdcce70f4666ba5f27
DTSTAMP:20260422T124856Z
SUMMARY:Jewish Federation of Central Mass Annual Meeting
DESCRIPTION:Jewish Federation of Central Massachusetts\nCalendar\nhttps://j
 ewishcentralmass.org/calendar/cal316\n\nJewish Federation of Central Mass 
 Annual Meeting
DTSTART;TZID=America/New_York:20150901T190000
DTEND;TZID=America/New_York:20150901T213000
END:VEVENT
END:VCALENDAR
