BEGIN:VCALENDAR
PRODID:-//eluceo/ical//2.0/EN
VERSION:2.0
CALSCALE:GREGORIAN
BEGIN:VEVENT
UID:9c782085f02c3a97627105f4d8960487
DTSTAMP:20260423T195817Z
SUMMARY:Beth Tikvah Welcome & Open House
DESCRIPTION:Jewish Federation of Central Massachusetts\nCalendar\nhttps://j
 ewishcentralmass.org/calendar/cal315\n\nBeth Tikvah Welcome & Open House
DTSTART;TZID=America/New_York:20150830T150000
DTEND;TZID=America/New_York:20150830T170000
END:VEVENT
END:VCALENDAR
