BEGIN:VCALENDAR
PRODID:-//eluceo/ical//2.0/EN
VERSION:2.0
CALSCALE:GREGORIAN
BEGIN:VEVENT
UID:2ae8568cf8e77a346d6b14714692d8b7
DTSTAMP:20260422T165448Z
SUMMARY:Temple Emanuel Sinai Open House
DESCRIPTION:Jewish Federation of Central Massachusetts\nCalendar\nhttps://j
 ewishcentralmass.org/calendar/cal314\n\nTemple Emanuel Sinai Open House
DTSTART;TZID=America/New_York:20150829T160000
DTEND;TZID=America/New_York:20150829T180000
END:VEVENT
END:VCALENDAR
