BEGIN:VCALENDAR
PRODID:-//eluceo/ical//2.0/EN
VERSION:2.0
CALSCALE:GREGORIAN
BEGIN:VEVENT
UID:7e756c2d77bedcc458b98b85ef866c6c
DTSTAMP:20260420T193238Z
SUMMARY:Congregation B'nai Shalom Board Meeting
DESCRIPTION:Jewish Federation of Central Massachusetts\nCalendar\nhttps://j
 ewishcentralmass.org/calendar/cal312\n\nCongregation B'nai Shalom Board Me
 eting
DTSTART;TZID=America/New_York:20150826T193000
DTEND;TZID=America/New_York:20150826T210000
END:VEVENT
END:VCALENDAR
