BEGIN:VCALENDAR
PRODID:-//eluceo/ical//2.0/EN
VERSION:2.0
CALSCALE:GREGORIAN
BEGIN:VEVENT
UID:cbfb0f3f4cbf5a7f9c67d15eff900a1e
DTSTAMP:20260423T090855Z
SUMMARY:Congregation B'nai Shalom Open House
DESCRIPTION:Jewish Federation of Central Massachusetts\nCalendar\nhttps://j
 ewishcentralmass.org/calendar/cal311\n\nCongregation B'nai Shalom Open Hou
 se
DTSTART;TZID=America/New_York:20150818T180000
DTEND;TZID=America/New_York:20150818T200000
END:VEVENT
END:VCALENDAR
