BEGIN:VCALENDAR
PRODID:-//eluceo/ical//2.0/EN
VERSION:2.0
CALSCALE:GREGORIAN
BEGIN:VEVENT
UID:79e4b5200425513a91a5487039020e11
DTSTAMP:20260422T032954Z
SUMMARY:Jewish Community Center Early Childhood Prom
DESCRIPTION:Jewish Federation of Central Massachusetts\nCalendar\nhttps://j
 ewishcentralmass.org/calendar/cal31\n\nJewish Community Center Early Child
 hood Prom
DTSTART;TZID=America/New_York:20141115T180000
DTEND;TZID=America/New_York:20141115T220000
END:VEVENT
END:VCALENDAR
