BEGIN:VCALENDAR
PRODID:-//eluceo/ical//2.0/EN
VERSION:2.0
CALSCALE:GREGORIAN
BEGIN:VEVENT
UID:0a74076cf76cca351a5bff0293efc1fd
DTSTAMP:20260425T020955Z
SUMMARY:Congregation Beth Israel Brotherhood BBQ
DESCRIPTION:Jewish Federation of Central Massachusetts\nCalendar\nhttps://j
 ewishcentralmass.org/calendar/cal309\n\nCongregation Beth Israel Brotherho
 od BBQ
DTSTART;TZID=America/New_York:20150811T180000
DTEND;TZID=America/New_York:20150811T200000
END:VEVENT
END:VCALENDAR
