BEGIN:VCALENDAR
PRODID:-//eluceo/ical//2.0/EN
VERSION:2.0
CALSCALE:GREGORIAN
BEGIN:VEVENT
UID:155be3e451278171bb498f078d65d862
DTSTAMP:20260421T202620Z
SUMMARY:Temple Emanuel Sinai Board Meeting
DESCRIPTION:Jewish Federation of Central Massachusetts\nCalendar\nhttps://j
 ewishcentralmass.org/calendar/cal308\n\nTemple Emanuel Sinai Board Meeting
DTSTART;TZID=America/New_York:20150810T193000
DTEND;TZID=America/New_York:20150810T210000
END:VEVENT
END:VCALENDAR
