BEGIN:VCALENDAR
PRODID:-//eluceo/ical//2.0/EN
VERSION:2.0
CALSCALE:GREGORIAN
BEGIN:VEVENT
UID:0731da762d349a8062c4434e44d469f2
DTSTAMP:20260421T194129Z
SUMMARY:Jewish Healthcare Center Golf Tournament
DESCRIPTION:Jewish Federation of Central Massachusetts\nCalendar\nhttps://j
 ewishcentralmass.org/calendar/cal307\n\nJewish Healthcare Center Golf Tour
 nament
DTSTART;TZID=America/New_York:20150803T090000
DTEND;TZID=America/New_York:20150803T190000
END:VEVENT
END:VCALENDAR
