BEGIN:VCALENDAR
PRODID:-//eluceo/ical//2.0/EN
VERSION:2.0
CALSCALE:GREGORIAN
BEGIN:VEVENT
UID:242a5a92567f795e732f24bbce7258ba
DTSTAMP:20260422T045359Z
SUMMARY:Congregation B'nai Shalom Picnic
DESCRIPTION:Jewish Federation of Central Massachusetts\nCalendar\nhttps://j
 ewishcentralmass.org/calendar/cal306\n\nCongregation B'nai Shalom Picnic
DTSTART;TZID=America/New_York:20150802T100000
DTEND;TZID=America/New_York:20150802T130000
END:VEVENT
END:VCALENDAR
