BEGIN:VCALENDAR
PRODID:-//eluceo/ical//2.0/EN
VERSION:2.0
CALSCALE:GREGORIAN
BEGIN:VEVENT
UID:e2d5f011480eaa1f96bc2702c55a998a
DTSTAMP:20260422T234322Z
SUMMARY:Beth Tikvah Service Under the Stars
DESCRIPTION:Jewish Federation of Central Massachusetts\nCalendar\nhttps://j
 ewishcentralmass.org/calendar/cal305\n\nBeth Tikvah Service Under the Star
 s
DTSTART;TZID=America/New_York:20150724T180000
DTEND;TZID=America/New_York:20150724T210000
END:VEVENT
END:VCALENDAR
