BEGIN:VCALENDAR
PRODID:-//eluceo/ical//2.0/EN
VERSION:2.0
CALSCALE:GREGORIAN
BEGIN:VEVENT
UID:1df2b89cda1467933599a3e77d7cebe0
DTSTAMP:20260423T111951Z
SUMMARY:Congregation B'nai Shalom Board Meeting
DESCRIPTION:Jewish Federation of Central Massachusetts\nCalendar\nhttps://j
 ewishcentralmass.org/calendar/cal303\n\nCongregation B'nai Shalom Board Me
 eting
DTSTART;TZID=America/New_York:20150722T193000
DTEND;TZID=America/New_York:20150722T210000
END:VEVENT
END:VCALENDAR
