BEGIN:VCALENDAR
PRODID:-//eluceo/ical//2.0/EN
VERSION:2.0
CALSCALE:GREGORIAN
BEGIN:VEVENT
UID:cdfe5b3ed8e7e4888a9a70227d081fd8
DTSTAMP:20260422T032622Z
SUMMARY:Temple Emanuel Sinai Board Meeting
DESCRIPTION:Jewish Federation of Central Massachusetts\nCalendar\nhttps://j
 ewishcentralmass.org/calendar/cal302\n\nTemple Emanuel Sinai Board Meeting
DTSTART;TZID=America/New_York:20150720T193000
DTEND;TZID=America/New_York:20150720T210000
END:VEVENT
END:VCALENDAR
