BEGIN:VCALENDAR
PRODID:-//eluceo/ical//2.0/EN
VERSION:2.0
CALSCALE:GREGORIAN
BEGIN:VEVENT
UID:d207982419a69200c90c39390718b029
DTSTAMP:20260422T232411Z
SUMMARY:Beth Tikvah Board Meeting
DESCRIPTION:Jewish Federation of Central Massachusetts\nCalendar\nhttps://j
 ewishcentralmass.org/calendar/cal301\n\nBeth Tikvah Board Meeting
DTSTART;TZID=America/New_York:20150708T190000
DTEND;TZID=America/New_York:20150708T210000
END:VEVENT
END:VCALENDAR
