BEGIN:VCALENDAR
PRODID:-//eluceo/ical//2.0/EN
VERSION:2.0
CALSCALE:GREGORIAN
BEGIN:VEVENT
UID:eb9cbec833420e97a28baf5405e5c331
DTSTAMP:20260422T045521Z
SUMMARY:Independence Day
DESCRIPTION:Jewish Federation of Central Massachusetts\nCalendar\nhttps://j
 ewishcentralmass.org/calendar/cal300\n\nJFCM
DTSTART;TZID=America/New_York:20150704T000100
DTEND;TZID=America/New_York:20150704T235900
END:VEVENT
END:VCALENDAR
