BEGIN:VCALENDAR
PRODID:-//eluceo/ical//2.0/EN
VERSION:2.0
CALSCALE:GREGORIAN
BEGIN:VEVENT
UID:da358aa89cdf156ddbdd9fb89147cc29
DTSTAMP:20260423T090556Z
SUMMARY:Temple Emanuel Sinai Installation of Rabbi Cohen
DESCRIPTION:Jewish Federation of Central Massachusetts\nCalendar\nhttps://j
 ewishcentralmass.org/calendar/cal30\n\nTemple Emanuel Sinai Installation o
 f Rabbi Cohen
DTSTART;TZID=America/New_York:20141024T193000
DTEND;TZID=America/New_York:20141024T210000
END:VEVENT
END:VCALENDAR
