BEGIN:VCALENDAR
PRODID:-//eluceo/ical//2.0/EN
VERSION:2.0
CALSCALE:GREGORIAN
BEGIN:VEVENT
UID:2028f4570cfe70a8183afa958aa7d29d
DTSTAMP:20260423T141901Z
SUMMARY:Jewish Healthcare Center Auxillary Meeting
DESCRIPTION:Jewish Federation of Central Massachusetts\nCalendar\nhttps://j
 ewishcentralmass.org/calendar/cal28\n\nJewish Healthcare Center Auxillary 
 Meeting
DTSTART;TZID=America/New_York:20141021T100000
DTEND;TZID=America/New_York:20141021T120000
END:VEVENT
END:VCALENDAR
