BEGIN:VCALENDAR
PRODID:-//eluceo/ical//2.0/EN
VERSION:2.0
CALSCALE:GREGORIAN
BEGIN:VEVENT
UID:a9d10ae4f7d0e9b41475388bd3c6299b
DTSTAMP:20260422T043513Z
SUMMARY:Congregation Beth Israel Brotherhood Breakfast
DESCRIPTION:Jewish Federation of Central Massachusetts\nCalendar\nhttps://j
 ewishcentralmass.org/calendar/cal27\n\nCongregation Beth Israel Brotherhoo
 d Breakfast
DTSTART;TZID=America/New_York:20141019T093000
DTEND;TZID=America/New_York:20141019T110000
END:VEVENT
END:VCALENDAR
