BEGIN:VCALENDAR
PRODID:-//eluceo/ical//2.0/EN
VERSION:2.0
CALSCALE:GREGORIAN
BEGIN:VEVENT
UID:4c2be53d46a92492415e08ac10bc5f82
DTSTAMP:20260422T105023Z
SUMMARY:Beth Tikvah 18th Birthday Celebration
DESCRIPTION:Jewish Federation of Central Massachusetts\nCalendar\nhttps://j
 ewishcentralmass.org/calendar/cal25\n\nBeth Tikvah 18th Birthday Celebrati
 on
DTSTART;TZID=America/New_York:20141018T190000
DTEND;TZID=America/New_York:20141018T210000
END:VEVENT
END:VCALENDAR
