BEGIN:VCALENDAR
PRODID:-//eluceo/ical//2.0/EN
VERSION:2.0
CALSCALE:GREGORIAN
BEGIN:VEVENT
UID:ff813dae3ffed914fece0cfe940b7277
DTSTAMP:20260423T035023Z
SUMMARY:Temple Emanuel Sinai Board Meeting
DESCRIPTION:Jewish Federation of Central Massachusetts\nCalendar\nhttps://j
 ewishcentralmass.org/calendar/cal24\n\nTemple Emanuel Sinai Board Meeting
DTSTART;TZID=America/New_York:20141013T193000
DTEND;TZID=America/New_York:20141013T210000
END:VEVENT
END:VCALENDAR
