BEGIN:VCALENDAR
PRODID:-//eluceo/ical//2.0/EN
VERSION:2.0
CALSCALE:GREGORIAN
BEGIN:VEVENT
UID:6b875a6474ed5287f3181503475b78d3
DTSTAMP:20260423T210013Z
SUMMARY:Congregation Beth Israel Brunch for New Members
DESCRIPTION:Jewish Federation of Central Massachusetts\nCalendar\nhttps://j
 ewishcentralmass.org/calendar/cal23\n\nCongregation Beth Israel Brunch for
  New Members
DTSTART;TZID=America/New_York:20141012T110000
DTEND;TZID=America/New_York:20141012T130000
END:VEVENT
END:VCALENDAR
